BEGIN:VCALENDAR
VERSION:2.0
PRODID:-//Service Line Warranties of Canada - ECPv6.6.2//NONSGML v1.0//EN
CALSCALE:GREGORIAN
METHOD:PUBLISH
X-WR-CALNAME:Service Line Warranties of Canada
X-ORIGINAL-URL:https://servicelinewarranties.ca
X-WR-CALDESC:Events for Service Line Warranties of Canada
REFRESH-INTERVAL;VALUE=DURATION:PT1H
X-Robots-Tag:noindex
X-PUBLISHED-TTL:PT1H
BEGIN:VTIMEZONE
TZID:America/Kentucky/Louisville
BEGIN:DAYLIGHT
TZOFFSETFROM:-0500
TZOFFSETTO:-0400
TZNAME:EDT
DTSTART:20230312T070000
END:DAYLIGHT
BEGIN:STANDARD
TZOFFSETFROM:-0400
TZOFFSETTO:-0500
TZNAME:EST
DTSTART:20231105T060000
END:STANDARD
BEGIN:DAYLIGHT
TZOFFSETFROM:-0500
TZOFFSETTO:-0400
TZNAME:EDT
DTSTART:20240310T070000
END:DAYLIGHT
BEGIN:STANDARD
TZOFFSETFROM:-0400
TZOFFSETTO:-0500
TZNAME:EST
DTSTART:20241103T060000
END:STANDARD
END:VTIMEZONE
BEGIN:VEVENT
DTSTART;TZID=America/Kentucky/Louisville:20230416T110000
DTEND;TZID=America/Kentucky/Louisville:20240416T120000
DTSTAMP:20260421T035656
CREATED:20240309T015058Z
LAST-MODIFIED:20240309T015637Z
UID:107148-1681642800-1713268800@servicelinewarranties.ca
SUMMARY:2024 Sewer and Water Line Warranty Service Overview
DESCRIPTION:This one hour webinar is a joint collaboration with Association of Municipalities of Ontario (AMO) and will explain the Sewer and Water Line Warranty program\, the infrastructure challenges municipalities face\, and the responsibility of the residents. The session will end with a live Q&A. \nThe webinar will be recorded and a link will be emailed to all registrants. \nHOSTS:\nJeffrey OlsonSenior Director Business DevelopmentSLWC \nJeff Olson currently serves as Senior Director\, Business Development for Service Line Warranties of Canada. He has spent the last 25 years working with both municipal and investor-owned utilities across the United States and Canada to improve performance and enhance services.Prior to joining SLWC and HomeServe\, Jeff spent 18 years as Executive Vice President of Business Development working for a global municipal/utility automation and equipment manufacturing company. Jeff received a B.A. in Economics from the University of Colorado. \nJohn SavoiaSenior Policy AdvisorCity of Hamilton \nJohn currently holds the position of Senior Policy Advisor with the City of Hamilton in the Corporate Services Department. He has over 32 years of broad finance experience in both the private and public sectors including the past 16 years with the City of Hamilton. During his tenure with the City\, he has supported the City’s water utility from a budgeting/policy perspective. Additionally\, he coordinates City efforts re special projects and infrastructure grant/loan programs. \n			\n				\n				\n				\n				\n				 \n\n 
URL:https://servicelinewarranties.ca/event/2024-sewer-and-water-line-warranty-service-overview/
LOCATION:Ontario
CATEGORIES:AMO,LAS,Water
END:VEVENT
BEGIN:VEVENT
DTSTART;VALUE=DATE:20231113
DTEND;VALUE=DATE:20231115
DTSTAMP:20260421T035656
CREATED:20231103T230234Z
LAST-MODIFIED:20231103T230237Z
UID:105835-1699833600-1700006399@servicelinewarranties.ca
SUMMARY:2023 CCPPP 31st Annual Conference
DESCRIPTION:Visit with Mike VanHorne to learn how we provide consumers with home repair plans that cover emergency home repairs and trusted access to a nationwide network of licensed\, vetted contractors while improving customer satisfaction with their utilities. \n 
URL:https://servicelinewarranties.ca/event/2023-ccppp-31st-annual-conference/
LOCATION:Sheraton Centre Hotel Toronto\, 123 Queen St W\, Toronto\, Ontario\, M5H 2M9\, Canada
CATEGORIES:Attending,CCPPP,Mike VanHorne,Water
END:VEVENT
END:VCALENDAR